BEGIN:VCALENDAR
VERSION:2.0
PRODID:-//InvisionCommunity Events 4.7.23//EN
METHOD:PUBLISH
CALSCALE:GREGORIAN
REFRESH-INTERVAL:PT15M
X-PUBLISHED-TTL:PT15M
X-WR-CALNAME:At My TV
NAME:At My TV
BEGIN:VTIMEZONE
TZID:Europe/London
TZURL:http://tzurl.org/zoneinfo/Europe/London
X-LIC-LOCATION:Europe/London
BEGIN:DAYLIGHT
TZOFFSETFROM:+0000
TZOFFSETTO:+0100
TZNAME:BST
DTSTART:20160327T020000Z
RRULE:FREQ=YEARLY;BYMONTH=3;BYDAY=-1SU
END:DAYLIGHT
BEGIN:STANDARD
TZOFFSETFROM:+0100
TZOFFSETTO:+0000
TZNAME:GMT
DTSTART:20161030T020000Z
RRULE:FREQ=YEARLY;BYMONTH=10;BYDAY=-1SU
END:STANDARD
END:VTIMEZONE
BEGIN:VEVENT
SUMMARY:The Carmichael Show 2x10 - Man's World
DTSTAMP:20160426T055502Z
SEQUENCE:0
UID:52633-2-841ebed20eb198c4569419e99b7bf40a@themidnightzone.com
ORGANIZER;CN="Midnight":midnight@themidnightzone.com
DESCRIPTION:When Maxine finds Jerrod's (Jerrod Carmichael) attitude abou
	tgender roles is more traditional than she'd thought shechallenges those n
	otions\, sending the Carmichael men to provetheir masculinity by fixing th
	e roof while Maxine (AmberStevens West) tries to prove to Cynthia (Loretta
	 Devine) that awoman can change a tire without a man's help.
DTSTART:20160509T010100Z
DTEND:20160509T013100Z
END:VEVENT
END:VCALENDAR
