BEGIN:VCALENDAR
VERSION:2.0
PRODID:-//InvisionCommunity Events 4.7.23//EN
METHOD:PUBLISH
CALSCALE:GREGORIAN
REFRESH-INTERVAL:PT15M
X-PUBLISHED-TTL:PT15M
X-WR-CALNAME:At My TV
NAME:At My TV
BEGIN:VTIMEZONE
TZID:Europe/London
TZURL:http://tzurl.org/zoneinfo/Europe/London
X-LIC-LOCATION:Europe/London
BEGIN:DAYLIGHT
TZOFFSETFROM:+0000
TZOFFSETTO:+0100
TZNAME:BST
DTSTART:20160327T020000Z
RRULE:FREQ=YEARLY;BYMONTH=3;BYDAY=-1SU
END:DAYLIGHT
BEGIN:STANDARD
TZOFFSETFROM:+0100
TZOFFSETTO:+0000
TZNAME:GMT
DTSTART:20161030T020000Z
RRULE:FREQ=YEARLY;BYMONTH=10;BYDAY=-1SU
END:STANDARD
END:VTIMEZONE
BEGIN:VEVENT
SUMMARY:Storage Hunters UK 5x4 - Caxton
DTSTAMP:20160426T055502Z
SEQUENCE:0
UID:52653-2-841ebed20eb198c4569419e99b7bf40a@themidnightzone.com
ORGANIZER;CN="Midnight":midnight@themidnightzone.com
DESCRIPTION:Storage Hunters auctioneer Sean Kelly continues his tour of 
	theUK and this weekHeavy D is in town and as always is prepared torisk hav
	ing his fingers burned forthe chance of a big score.Sam tries to charm the
	 other bidders while new boysGlyn andJames try the more direct approach an
	d old guard Barry andDarren arenot taking that lying down.
DTSTART:20160510T190000Z
DTEND:20160510T193000Z
END:VEVENT
END:VCALENDAR
