BEGIN:VCALENDAR
VERSION:2.0
PRODID:-//InvisionCommunity Events 4.7.23//EN
METHOD:PUBLISH
CALSCALE:GREGORIAN
REFRESH-INTERVAL:PT15M
X-PUBLISHED-TTL:PT15M
X-WR-CALNAME:At My TV
NAME:At My TV
BEGIN:VTIMEZONE
TZID:Europe/London
TZURL:http://tzurl.org/zoneinfo/Europe/London
X-LIC-LOCATION:Europe/London
BEGIN:DAYLIGHT
TZOFFSETFROM:+0000
TZOFFSETTO:+0100
TZNAME:BST
DTSTART:20160327T020000Z
RRULE:FREQ=YEARLY;BYMONTH=3;BYDAY=-1SU
END:DAYLIGHT
BEGIN:STANDARD
TZOFFSETFROM:+0100
TZOFFSETTO:+0000
TZNAME:GMT
DTSTART:20161030T020000Z
RRULE:FREQ=YEARLY;BYMONTH=10;BYDAY=-1SU
END:STANDARD
END:VTIMEZONE
BEGIN:VEVENT
SUMMARY:Modern Family 7x21 - Crazy Train
DTSTAMP:20160428T055502Z
SEQUENCE:0
UID:52785-2-841ebed20eb198c4569419e99b7bf40a@themidnightzone.com
ORGANIZER;CN="Midnight":midnight@themidnightzone.com
DESCRIPTION:Dede is getting remarried\, and Manny convinces the family t
	otake the train up to the wedding. Jay could not be moreecstatic that Dede
	 has moved on for good but his overenthusiasmmight come back and bite him 
	later. Claire and Mitchell work ontheir toast while Phil and Cam geek out 
	over their favoriteauthor\, who is also on the train. Luke and Manny go a 
	littlegirl crazy\; Gloria gets stuck in coach\; and Alex gets caughtup in 
	the romance of the train herself.
DTSTART:20160512T010000Z
DTEND:20160512T013000Z
END:VEVENT
END:VCALENDAR
