BEGIN:VCALENDAR
VERSION:2.0
PRODID:-//InvisionCommunity Events 4.7.23//EN
METHOD:PUBLISH
CALSCALE:GREGORIAN
REFRESH-INTERVAL:PT15M
X-PUBLISHED-TTL:PT15M
X-WR-CALNAME:At My TV
NAME:At My TV
BEGIN:VTIMEZONE
TZID:Europe/London
TZURL:http://tzurl.org/zoneinfo/Europe/London
X-LIC-LOCATION:Europe/London
BEGIN:DAYLIGHT
TZOFFSETFROM:+0000
TZOFFSETTO:+0100
TZNAME:BST
DTSTART:20160327T020000Z
RRULE:FREQ=YEARLY;BYMONTH=3;BYDAY=-1SU
END:DAYLIGHT
BEGIN:STANDARD
TZOFFSETFROM:+0100
TZOFFSETTO:+0000
TZNAME:GMT
DTSTART:20161030T020000Z
RRULE:FREQ=YEARLY;BYMONTH=10;BYDAY=-1SU
END:STANDARD
END:VTIMEZONE
BEGIN:VEVENT
SUMMARY:Bones 11x15 - The Fight in the Fixer
DTSTAMP:20160429T055502Z
SEQUENCE:0
UID:52837-2-841ebed20eb198c4569419e99b7bf40a@themidnightzone.com
ORGANIZER;CN="Midnight":midnight@themidnightzone.com
DESCRIPTION:The team investigates the body of a private investigator who
	was found frozen in ice\, after being dumped in the Potomac.The victim\, a
	 man with many enemies\, was a \"fixer\" who madesure his cllients' proble
	ms got \"resolved.\" Meanwhile\, Aubreyis shocked to find information tied
	 to his father'swhereabouts\, Angela and Hodgins continue to work on their
	rocky relationship\, Brennan and Booth get Christine's firstreport card an
	d criminal behaviorist Karen Delfs (guest starSara Rue) asks Aubrey out on
	 a date.
DTSTART:20160513T000000Z
DTEND:20160513T010000Z
END:VEVENT
END:VCALENDAR
