BEGIN:VCALENDAR
VERSION:2.0
PRODID:-//InvisionCommunity Events 4.7.23//EN
METHOD:PUBLISH
CALSCALE:GREGORIAN
REFRESH-INTERVAL:PT15M
X-PUBLISHED-TTL:PT15M
X-WR-CALNAME:At My TV
NAME:At My TV
BEGIN:VTIMEZONE
TZID:Europe/London
TZURL:http://tzurl.org/zoneinfo/Europe/London
X-LIC-LOCATION:Europe/London
BEGIN:DAYLIGHT
TZOFFSETFROM:+0000
TZOFFSETTO:+0100
TZNAME:BST
DTSTART:20160327T020000Z
RRULE:FREQ=YEARLY;BYMONTH=3;BYDAY=-1SU
END:DAYLIGHT
BEGIN:STANDARD
TZOFFSETFROM:+0100
TZOFFSETTO:+0000
TZNAME:GMT
DTSTART:20161030T020000Z
RRULE:FREQ=YEARLY;BYMONTH=10;BYDAY=-1SU
END:STANDARD
END:VTIMEZONE
BEGIN:VEVENT
SUMMARY:Ancient Aliens 11x4 - The New Evidence
DTSTAMP:20160514T071103Z
SEQUENCE:0
UID:53709-2-841ebed20eb198c4569419e99b7bf40a@themidnightzone.com
ORGANIZER;CN="Midnight":midnight@themidnightzone.com
DESCRIPTION:Millions of people around the world believe we have beenvisi
	ted in the past by extraterrestrial beings. What if it weretrue? This is t
	he question Ancient Astronaut theorists haveposed since Erich von Daniken'
	s Chariots of the Gods was firstpublished in 1968\; examining scientific\,
	 archaeological\,astronomical\, and historical evidence to find the answer
	. Inrecent years\, more new evidence has been revealed than everbefore tha
	t suggests there was extraterrestrial intervention onEarth in the distant 
	past. Satellite images have exposedgeoglyphs resembling Nazca lines in Kaz
	akhstan. Groundpenetrating radar has detected remnants of ancient technolo
	gyin Machu Picchu. And thermal scanning has uncovered hiddenchambers behin
	d King Tut's tomb that may hold the remains ofextraterrestrial beings. Cou
	ld we be at the tipping point wherethe overwhelming evidence outweighs any
	 last shred of doubt?
DTSTART:20160528T010000Z
DTEND:20160528T020000Z
END:VEVENT
END:VCALENDAR
