BEGIN:VCALENDAR
VERSION:2.0
PRODID:-//InvisionCommunity Events 4.7.23//EN
METHOD:PUBLISH
CALSCALE:GREGORIAN
REFRESH-INTERVAL:PT15M
X-PUBLISHED-TTL:PT15M
X-WR-CALNAME:Pogdesign
NAME:Pogdesign
BEGIN:VTIMEZONE
TZID:Europe/London
TZURL:http://tzurl.org/zoneinfo/Europe/London
X-LIC-LOCATION:Europe/London
BEGIN:DAYLIGHT
TZOFFSETFROM:+0000
TZOFFSETTO:+0100
TZNAME:BST
DTSTART:20160327T020000Z
RRULE:FREQ=YEARLY;BYMONTH=3;BYDAY=-1SU
END:DAYLIGHT
BEGIN:STANDARD
TZOFFSETFROM:+0100
TZOFFSETTO:+0000
TZNAME:GMT
DTSTART:20161030T020000Z
RRULE:FREQ=YEARLY;BYMONTH=10;BYDAY=-1SU
END:STANDARD
END:VTIMEZONE
BEGIN:VEVENT
SUMMARY:American Ninja Warrior 8x1 - Los Angeles Qualifier
DTSTAMP:20160519T111101Z
SEQUENCE:0
UID:53953-3-841ebed20eb198c4569419e99b7bf40a@themidnightzone.com
ORGANIZER;CN="Midnight":midnight@themidnightzone.com
DESCRIPTION:Four of the six obstacles on the Los Angeles course will be 
	newto &quot\;American Ninja Warrior&quot\;. For the first time\,competitor
	s will face the Floating Steps\, Tic Toc\,Escalator\, and Ring Jump. Veter
	an Ninjas Kevin Bull\, JessieGraff\, and Grant McCartney return for anothe
	r shot atcompleting the course. Matt Iseman and Akbar Gbajabiamilareturn a
	s hosts as Kristine Leahy co-hosts.
DTSTART:20160601T200000Z
DTEND:20160601T210000Z
END:VEVENT
END:VCALENDAR
