BEGIN:VCALENDAR
VERSION:2.0
PRODID:-//InvisionCommunity Events 4.7.23//EN
METHOD:PUBLISH
CALSCALE:GREGORIAN
REFRESH-INTERVAL:PT15M
X-PUBLISHED-TTL:PT15M
X-WR-CALNAME:Pogdesign
NAME:Pogdesign
BEGIN:VTIMEZONE
TZID:Europe/London
TZURL:http://tzurl.org/zoneinfo/Europe/London
X-LIC-LOCATION:Europe/London
BEGIN:DAYLIGHT
TZOFFSETFROM:+0000
TZOFFSETTO:+0100
TZNAME:BST
DTSTART:20160327T020000Z
RRULE:FREQ=YEARLY;BYMONTH=3;BYDAY=-1SU
END:DAYLIGHT
BEGIN:STANDARD
TZOFFSETFROM:+0100
TZOFFSETTO:+0000
TZNAME:GMT
DTSTART:20161030T020000Z
RRULE:FREQ=YEARLY;BYMONTH=10;BYDAY=-1SU
END:STANDARD
END:VTIMEZONE
BEGIN:VEVENT
SUMMARY:Power 3x1 - Call Me James
DTSTAMP:20160523T111101Z
SEQUENCE:0
UID:54151-3-841ebed20eb198c4569419e99b7bf40a@themidnightzone.com
ORGANIZER;CN="Midnight":midnight@themidnightzone.com
DESCRIPTION:Out of the drug game and with new nightclubs\, James St.Patr
	ick is ready to leave &quot\;Ghost&quot\; behind and beginhis new life wit
	h Angela. Just one problem: someone knows thetruth about Vladimir\, Drifty
	\, Ruiz\, and Lobos. Angela learnsof a shocking discovery at work\, and no
	w must decide where todraw the line between love and honor. Without her hu
	sband byher side\, Tasha reels from the death of Shawn while having anunse
	ttling theory as to the identity of his killer. On his ownin the underworl
	d\, Tommy is forced to make some bold moveswhile he receives a gruesome re
	minder of his assignment to killGhost.
DTSTART:20160717T210000Z
DTEND:20160717T220000Z
END:VEVENT
END:VCALENDAR
