BEGIN:VCALENDAR
VERSION:2.0
PRODID:-//InvisionCommunity Events 4.7.23//EN
METHOD:PUBLISH
CALSCALE:GREGORIAN
REFRESH-INTERVAL:PT15M
X-PUBLISHED-TTL:PT15M
X-WR-CALNAME:At My TV
NAME:At My TV
BEGIN:VTIMEZONE
TZID:Europe/London
TZURL:http://tzurl.org/zoneinfo/Europe/London
X-LIC-LOCATION:Europe/London
BEGIN:DAYLIGHT
TZOFFSETFROM:+0000
TZOFFSETTO:+0100
TZNAME:BST
DTSTART:20160327T020000Z
RRULE:FREQ=YEARLY;BYMONTH=3;BYDAY=-1SU
END:DAYLIGHT
BEGIN:STANDARD
TZOFFSETFROM:+0100
TZOFFSETTO:+0000
TZNAME:GMT
DTSTART:20161030T020000Z
RRULE:FREQ=YEARLY;BYMONTH=10;BYDAY=-1SU
END:STANDARD
END:VTIMEZONE
BEGIN:VEVENT
SUMMARY:American Ninja Warrior 8x2 - Atlanta Qualifier
DTSTAMP:20160526T071602Z
SEQUENCE:0
UID:54229-2-841ebed20eb198c4569419e99b7bf40a@themidnightzone.com
ORGANIZER;CN="Midnight":midnight@themidnightzone.com
DESCRIPTION:\"American Ninja Warrior\" travels to Atlanta\, Georgia wher
	ecompetitors tackle six obstacles\, including the brand newFloating Steps\
	, Block Run and Pipe Fitter. \"American NinjaWarrior\" veterans Drew Drech
	sel and Neil \"Crazy\" Craverreturn\, along with seven-time competitor Tra
	vis Rosen.Competitors in this rigorous obstacle course competition seriesv
	ie for a chance to win a cash prize of \,000\,000 and thetitle \"American 
	Ninja Warrior.\" Matt Iseman and AkbarGbajabiamila host as Kristine Leahy 
	co-hosts.
DTSTART:20160609T000000Z
DTEND:20160609T020000Z
END:VEVENT
END:VCALENDAR
