BEGIN:VCALENDAR
VERSION:2.0
PRODID:-//InvisionCommunity Events 4.7.23//EN
METHOD:PUBLISH
CALSCALE:GREGORIAN
REFRESH-INTERVAL:PT15M
X-PUBLISHED-TTL:PT15M
X-WR-CALNAME:Pogdesign
NAME:Pogdesign
BEGIN:VTIMEZONE
TZID:Europe/London
TZURL:http://tzurl.org/zoneinfo/Europe/London
X-LIC-LOCATION:Europe/London
BEGIN:DAYLIGHT
TZOFFSETFROM:+0000
TZOFFSETTO:+0100
TZNAME:BST
DTSTART:20160327T020000Z
RRULE:FREQ=YEARLY;BYMONTH=3;BYDAY=-1SU
END:DAYLIGHT
BEGIN:STANDARD
TZOFFSETFROM:+0100
TZOFFSETTO:+0000
TZNAME:GMT
DTSTART:20161030T020000Z
RRULE:FREQ=YEARLY;BYMONTH=10;BYDAY=-1SU
END:STANDARD
END:VTIMEZONE
BEGIN:VEVENT
SUMMARY:Dead of Summer 1x1 - Like A Prayer
DTSTAMP:20160617T141601Z
SEQUENCE:0
UID:55346-3-841ebed20eb198c4569419e99b7bf40a@themidnightzone.com
ORGANIZER;CN="Midnight":midnight@themidnightzone.com
DESCRIPTION:Camp Stillwater is about to reopen after being closed down f
	oryears. Deb\, the new owner\, has thrown her heart\, soul andlife savings
	 into renovating the camp she loved as a child. Sheisn't the only one exci
	ted to return as six former campers -Alex\, Jessie\, Cricket\, Joel\, Blai
	r and Blotter join her ascounselors hoping to experience the freedom that 
	camp bringsnow that they are older. Not part of the old crew\, Amy is notj
	ust new to Camp Stillwater\, but to camp in general. While Amytries her be
	st to fit in with the already tight group\, Drew iscontent to be left alon
	e. As everyone settles in and preparesfor the campers' arrival\, Amy is th
	e first to get a feelingthat something is not right with this idyllic summ
	er camp.
DTSTART:20160628T210000Z
DTEND:20160628T215500Z
END:VEVENT
END:VCALENDAR
