BEGIN:VCALENDAR
VERSION:2.0
PRODID:-//InvisionCommunity Events 4.7.23//EN
METHOD:PUBLISH
CALSCALE:GREGORIAN
REFRESH-INTERVAL:PT15M
X-PUBLISHED-TTL:PT15M
X-WR-CALNAME:Pogdesign
NAME:Pogdesign
BEGIN:VTIMEZONE
TZID:Europe/London
TZURL:http://tzurl.org/zoneinfo/Europe/London
X-LIC-LOCATION:Europe/London
BEGIN:DAYLIGHT
TZOFFSETFROM:+0000
TZOFFSETTO:+0100
TZNAME:BST
DTSTART:20160327T020000Z
RRULE:FREQ=YEARLY;BYMONTH=3;BYDAY=-1SU
END:DAYLIGHT
BEGIN:STANDARD
TZOFFSETFROM:+0100
TZOFFSETTO:+0000
TZNAME:GMT
DTSTART:20161030T020000Z
RRULE:FREQ=YEARLY;BYMONTH=10;BYDAY=-1SU
END:STANDARD
END:VTIMEZONE
BEGIN:VEVENT
SUMMARY:BrainDead 1x4 - Wake Up Grassroots: The Nine Virtues ofParti
	cipatory Democracy\, and How We Can Keep America Great byEncouraging an In
	formed Electorate
DTSTAMP:20160621T061601Z
SEQUENCE:0
UID:55460-3-841ebed20eb198c4569419e99b7bf40a@themidnightzone.com
ORGANIZER;CN="Midnight":midnight@themidnightzone.com
DESCRIPTION:Laurel and Rochelle try to persuade Laurel's friend Abby to 
	getan MRI so they can uncover the real cause of the strangebehavior taking
	 over Washington\, D.C. Also\, Luke attempts toreopen the government throu
	gh a secret deal with theRepublicans.
DTSTART:20160711T220000Z
DTEND:20160711T230000Z
END:VEVENT
END:VCALENDAR
