BEGIN:VCALENDAR
VERSION:2.0
PRODID:-//InvisionCommunity Events 4.7.23//EN
METHOD:PUBLISH
CALSCALE:GREGORIAN
REFRESH-INTERVAL:PT15M
X-PUBLISHED-TTL:PT15M
X-WR-CALNAME:Pogdesign
NAME:Pogdesign
BEGIN:VTIMEZONE
TZID:Europe/London
TZURL:http://tzurl.org/zoneinfo/Europe/London
X-LIC-LOCATION:Europe/London
BEGIN:DAYLIGHT
TZOFFSETFROM:+0000
TZOFFSETTO:+0100
TZNAME:BST
DTSTART:20160327T020000Z
RRULE:FREQ=YEARLY;BYMONTH=3;BYDAY=-1SU
END:DAYLIGHT
BEGIN:STANDARD
TZOFFSETFROM:+0100
TZOFFSETTO:+0000
TZNAME:GMT
DTSTART:20161030T020000Z
RRULE:FREQ=YEARLY;BYMONTH=10;BYDAY=-1SU
END:STANDARD
END:VTIMEZONE
BEGIN:VEVENT
SUMMARY:Still the King 1x7 - The King Has Left the Building
DTSTAMP:20160627T061601Z
SEQUENCE:0
UID:55664-3-841ebed20eb198c4569419e99b7bf40a@themidnightzone.com
ORGANIZER;CN="Midnight":midnight@themidnightzone.com
DESCRIPTION:After picking up a newly Re-Dazzled Elvis jumpsuit fromDebbi
	e\, Vernon breaks parole by crossing state lines and goingwith Walt to an 
	Elvis Impersonator Contest at a casino inTunica. Doily pursues. To Walt's 
	chagrin\, Vernon agrees totake a dive and lose the contest when Starman te
	lls him theycan make more money in side bets. But\, ultimately\, Vernoncan
	't help himself and remains true to the king and wins\, butthe victory is 
	cut short when a full on bar brawl breaks outbetween the Elvis impersonato
	rs and Johnny Cash impersonators.Charlotte and Mabel visit Dallas' band fo
	r an interview andwalk in on band strife and a low-budget\, cheesy music v
	ideoshoot. .
DTSTART:20160710T210000Z
DTEND:20160710T213000Z
END:VEVENT
END:VCALENDAR
