BEGIN:VCALENDAR
VERSION:2.0
PRODID:-//InvisionCommunity Events 4.7.23//EN
METHOD:PUBLISH
CALSCALE:GREGORIAN
REFRESH-INTERVAL:PT15M
X-PUBLISHED-TTL:PT15M
X-WR-CALNAME:Pogdesign
NAME:Pogdesign
BEGIN:VTIMEZONE
TZID:Europe/London
TZURL:http://tzurl.org/zoneinfo/Europe/London
X-LIC-LOCATION:Europe/London
BEGIN:DAYLIGHT
TZOFFSETFROM:+0000
TZOFFSETTO:+0100
TZNAME:BST
DTSTART:20160327T020000Z
RRULE:FREQ=YEARLY;BYMONTH=3;BYDAY=-1SU
END:DAYLIGHT
BEGIN:STANDARD
TZOFFSETFROM:+0100
TZOFFSETTO:+0000
TZNAME:GMT
DTSTART:20161030T020000Z
RRULE:FREQ=YEARLY;BYMONTH=10;BYDAY=-1SU
END:STANDARD
END:VTIMEZONE
BEGIN:VEVENT
SUMMARY:Queen of the South 1x3 - Estrategia de Entrada
DTSTAMP:20160627T221559Z
SEQUENCE:0
UID:55697-3-841ebed20eb198c4569419e99b7bf40a@themidnightzone.com
ORGANIZER;CN="Midnight":midnight@themidnightzone.com
DESCRIPTION:Camila sends Teresa on a major drug operation to test herloy
	alty. When Teresa plays a pivotal role in the pickup\, shetakes a real ste
	p toward being trapped into Camila's dark narcoworld. Camila enlists Teo\,
	 a high-powered lawyer\, to help herwith first big secretive move into tak
	ing over Epifanio'scartel. Meanwhile\, Brenda\, still on the run\, finally
	 makescontact with Teresa\, who helps her escape\, but not how sheexpected
	.
DTSTART:20160707T220000Z
DTEND:20160707T230000Z
END:VEVENT
END:VCALENDAR
