BEGIN:VCALENDAR
VERSION:2.0
PRODID:-//InvisionCommunity Events 4.7.23//EN
METHOD:PUBLISH
CALSCALE:GREGORIAN
REFRESH-INTERVAL:PT15M
X-PUBLISHED-TTL:PT15M
X-WR-CALNAME:Pogdesign
NAME:Pogdesign
BEGIN:VTIMEZONE
TZID:Europe/London
TZURL:http://tzurl.org/zoneinfo/Europe/London
X-LIC-LOCATION:Europe/London
BEGIN:DAYLIGHT
TZOFFSETFROM:+0000
TZOFFSETTO:+0100
TZNAME:BST
DTSTART:20160327T020000Z
RRULE:FREQ=YEARLY;BYMONTH=3;BYDAY=-1SU
END:DAYLIGHT
BEGIN:STANDARD
TZOFFSETFROM:+0100
TZOFFSETTO:+0000
TZNAME:GMT
DTSTART:20161030T020000Z
RRULE:FREQ=YEARLY;BYMONTH=10;BYDAY=-1SU
END:STANDARD
END:VTIMEZONE
BEGIN:VEVENT
SUMMARY:Mistresses (US) 4x6 - What Happens In Vegas
DTSTAMP:20160628T061601Z
SEQUENCE:0
UID:55710-3-841ebed20eb198c4569419e99b7bf40a@themidnightzone.com
ORGANIZER;CN="Midnight":midnight@themidnightzone.com
DESCRIPTION:Alec makes a surprise visit and turns Karen's life upside do
	wnwhen he reveals something new in his life. April and Marc buttheads when
	 it comes to parenting Lucy\, putting a strain ontheir relationship. Kate 
	discovers her new love interest hasclose ties to Joss and Harry. Joss and 
	Harry get invited to LasVegas by Harry's new business partner\, Jonathan\,
	 and Josssnaps unexpectedly just before they are to be married.
DTSTART:20160711T220000Z
DTEND:20160711T230000Z
END:VEVENT
END:VCALENDAR
