BEGIN:VCALENDAR
VERSION:2.0
PRODID:-//InvisionCommunity Events 4.7.23//EN
METHOD:PUBLISH
CALSCALE:GREGORIAN
REFRESH-INTERVAL:PT15M
X-PUBLISHED-TTL:PT15M
X-WR-CALNAME:Pogdesign
NAME:Pogdesign
BEGIN:VTIMEZONE
TZID:Europe/London
TZURL:http://tzurl.org/zoneinfo/Europe/London
X-LIC-LOCATION:Europe/London
BEGIN:DAYLIGHT
TZOFFSETFROM:+0000
TZOFFSETTO:+0100
TZNAME:BST
DTSTART:20160327T020000Z
RRULE:FREQ=YEARLY;BYMONTH=3;BYDAY=-1SU
END:DAYLIGHT
BEGIN:STANDARD
TZOFFSETFROM:+0100
TZOFFSETTO:+0000
TZNAME:GMT
DTSTART:20161030T020000Z
RRULE:FREQ=YEARLY;BYMONTH=10;BYDAY=-1SU
END:STANDARD
END:VTIMEZONE
BEGIN:VEVENT
SUMMARY:Dead of Summer 1x3 - Disposable
DTSTAMP:20160629T061601Z
SEQUENCE:0
UID:55754-3-841ebed20eb198c4569419e99b7bf40a@themidnightzone.com
ORGANIZER;CN="Midnight":midnight@themidnightzone.com
DESCRIPTION:The summer is off to a rough start for the counselors at Cam
	pStillwater and a night away in town is a much-needed break.Both Cricket a
	nd Jesse see the free time as an opportunity tomake headway with their cru
	shes\, but when one of them goes alittle too far the evening takes a dange
	rous turn. Stuckcovering the campers while the rest are in town\, Blair an
	dJoel use movie night as a way to make their own romanticovertures. Meanwh
	ile\, flashbacks show why Cricket's plans toattract Alex's attention inclu
	de insulting graffiti.
DTSTART:20160712T210000Z
DTEND:20160712T215500Z
END:VEVENT
END:VCALENDAR
