BEGIN:VCALENDAR
VERSION:2.0
PRODID:-//InvisionCommunity Events 4.7.23//EN
METHOD:PUBLISH
CALSCALE:GREGORIAN
REFRESH-INTERVAL:PT15M
X-PUBLISHED-TTL:PT15M
X-WR-CALNAME:Pogdesign
NAME:Pogdesign
BEGIN:VTIMEZONE
TZID:Europe/London
TZURL:http://tzurl.org/zoneinfo/Europe/London
X-LIC-LOCATION:Europe/London
BEGIN:DAYLIGHT
TZOFFSETFROM:+0000
TZOFFSETTO:+0100
TZNAME:BST
DTSTART:20160327T020000Z
RRULE:FREQ=YEARLY;BYMONTH=3;BYDAY=-1SU
END:DAYLIGHT
BEGIN:STANDARD
TZOFFSETFROM:+0100
TZOFFSETTO:+0000
TZNAME:GMT
DTSTART:20161030T020000Z
RRULE:FREQ=YEARLY;BYMONTH=10;BYDAY=-1SU
END:STANDARD
END:VTIMEZONE
BEGIN:VEVENT
SUMMARY:Masterchef (US) 7x7 - Vets\, Jets\, and Home Cooks
DTSTAMP:20160630T061601Z
SEQUENCE:0
UID:55788-3-841ebed20eb198c4569419e99b7bf40a@themidnightzone.com
ORGANIZER;CN="Midnight":midnight@themidnightzone.com
DESCRIPTION:The remaining 15 home cooks separate into 2 teams for thesec
	ond major field challenge of the competition\, cooking for101 hungry veter
	ans! The 2 teams will have 75 minutes to prep\,and one hour to serve a dis
	h consisting of a steak\, twosides\, and a sauce. After a dramatic day out
	 in the field\,the veterans will have the power to vote for their favorite
	dish. The team with the most votes will be safe in thecompetition\, while 
	the team with the least amount of voteswill face the pressure test.
DTSTART:20160713T200000Z
DTEND:20160713T210000Z
END:VEVENT
END:VCALENDAR
