BEGIN:VCALENDAR
VERSION:2.0
PRODID:-//InvisionCommunity Events 4.7.23//EN
METHOD:PUBLISH
CALSCALE:GREGORIAN
REFRESH-INTERVAL:PT15M
X-PUBLISHED-TTL:PT15M
X-WR-CALNAME:Pogdesign
NAME:Pogdesign
BEGIN:VTIMEZONE
TZID:Europe/London
TZURL:http://tzurl.org/zoneinfo/Europe/London
X-LIC-LOCATION:Europe/London
BEGIN:DAYLIGHT
TZOFFSETFROM:+0000
TZOFFSETTO:+0100
TZNAME:BST
DTSTART:20160327T020000Z
RRULE:FREQ=YEARLY;BYMONTH=3;BYDAY=-1SU
END:DAYLIGHT
BEGIN:STANDARD
TZOFFSETFROM:+0100
TZOFFSETTO:+0000
TZNAME:GMT
DTSTART:20161030T020000Z
RRULE:FREQ=YEARLY;BYMONTH=10;BYDAY=-1SU
END:STANDARD
END:VTIMEZONE
BEGIN:VEVENT
SUMMARY:Ray Donovan 4x4 - Federal Boobie Inspector
DTSTAMP:20160704T061601Z
SEQUENCE:0
UID:55953-3-841ebed20eb198c4569419e99b7bf40a@themidnightzone.com
ORGANIZER;CN="Midnight":midnight@themidnightzone.com
DESCRIPTION:Looking for leverage to get the Russian mob off his back\, R
	aypays a visit to a Hollywood power-player and unearths a secretEzra share
	d in the past. Lena and an ex-girlfriend take Abbyfor a night on the town 
	to help her confront her fears over arecent health diagnosis. After return
	ing from Primm to see hisnew grandchild\, Mickey offers his boys a job pro
	spect whiletrying to assimilate back into the family.
DTSTART:20160717T210000Z
DTEND:20160717T220000Z
END:VEVENT
END:VCALENDAR
