BEGIN:VCALENDAR
VERSION:2.0
PRODID:-//InvisionCommunity Events 4.7.23//EN
METHOD:PUBLISH
CALSCALE:GREGORIAN
REFRESH-INTERVAL:PT15M
X-PUBLISHED-TTL:PT15M
X-WR-CALNAME:Pogdesign
NAME:Pogdesign
BEGIN:VTIMEZONE
TZID:Europe/London
TZURL:http://tzurl.org/zoneinfo/Europe/London
X-LIC-LOCATION:Europe/London
BEGIN:DAYLIGHT
TZOFFSETFROM:+0000
TZOFFSETTO:+0100
TZNAME:BST
DTSTART:20160327T020000Z
RRULE:FREQ=YEARLY;BYMONTH=3;BYDAY=-1SU
END:DAYLIGHT
BEGIN:STANDARD
TZOFFSETFROM:+0100
TZOFFSETTO:+0000
TZNAME:GMT
DTSTART:20161030T020000Z
RRULE:FREQ=YEARLY;BYMONTH=10;BYDAY=-1SU
END:STANDARD
END:VTIMEZONE
BEGIN:VEVENT
SUMMARY:American Ninja Warrior 8x7 - Atlanta Finals
DTSTAMP:20160705T061601Z
SEQUENCE:0
UID:55988-3-841ebed20eb198c4569419e99b7bf40a@themidnightzone.com
ORGANIZER;CN="Midnight":midnight@themidnightzone.com
DESCRIPTION:The top 30 competitors from the Atlanta Qualifier tackle ane
	ven more challenging course that includes ten obstacles in theCity Finals.
	 The 4 added obstacles are: The Salmon Ladder\,Floating Monkey Bars\, The 
	Clacker\, and Invisible Ladder. Topcompetitors Neil &quot\;Crazy&quot\; Cr
	aver\, Drew Dreschel\,and Travis Rosen will take on the course.
DTSTART:20160718T200000Z
DTEND:20160718T210000Z
END:VEVENT
END:VCALENDAR
