BEGIN:VCALENDAR
VERSION:2.0
PRODID:-//InvisionCommunity Events 4.7.23//EN
METHOD:PUBLISH
CALSCALE:GREGORIAN
REFRESH-INTERVAL:PT15M
X-PUBLISHED-TTL:PT15M
X-WR-CALNAME:Pogdesign
NAME:Pogdesign
BEGIN:VTIMEZONE
TZID:Europe/London
TZURL:http://tzurl.org/zoneinfo/Europe/London
X-LIC-LOCATION:Europe/London
BEGIN:DAYLIGHT
TZOFFSETFROM:+0000
TZOFFSETTO:+0100
TZNAME:BST
DTSTART:20160327T020000Z
RRULE:FREQ=YEARLY;BYMONTH=3;BYDAY=-1SU
END:DAYLIGHT
BEGIN:STANDARD
TZOFFSETFROM:+0100
TZOFFSETTO:+0000
TZNAME:GMT
DTSTART:20161030T020000Z
RRULE:FREQ=YEARLY;BYMONTH=10;BYDAY=-1SU
END:STANDARD
END:VTIMEZONE
BEGIN:VEVENT
SUMMARY:BrainDead 1x5 - Back to Work: A Behind-the-Scenes Look atCon
	gress and How It Gets Things Done (and Often Doesn't)
DTSTAMP:20160705T061601Z
SEQUENCE:0
UID:55990-3-841ebed20eb198c4569419e99b7bf40a@themidnightzone.com
ORGANIZER;CN="Midnight":midnight@themidnightzone.com
DESCRIPTION:Laurel asks her brother\, Luke\, for his help to get theCent
	ers for Disease Control and Prevention to investigate thebugs\, but he ins
	ists she first consult Dr. Joanne Alaimo\, aleading entomologist\, for her
	 perspective on the invasion.Laurel's relationship with Anthony takes a dr
	astic turn.
DTSTART:20160724T220000Z
DTEND:20160724T230000Z
END:VEVENT
END:VCALENDAR
