BEGIN:VCALENDAR
VERSION:2.0
PRODID:-//InvisionCommunity Events 4.7.23//EN
METHOD:PUBLISH
CALSCALE:GREGORIAN
REFRESH-INTERVAL:PT15M
X-PUBLISHED-TTL:PT15M
X-WR-CALNAME:Pogdesign
NAME:Pogdesign
BEGIN:VTIMEZONE
TZID:Europe/London
TZURL:http://tzurl.org/zoneinfo/Europe/London
X-LIC-LOCATION:Europe/London
BEGIN:DAYLIGHT
TZOFFSETFROM:+0000
TZOFFSETTO:+0100
TZNAME:BST
DTSTART:20160327T020000Z
RRULE:FREQ=YEARLY;BYMONTH=3;BYDAY=-1SU
END:DAYLIGHT
BEGIN:STANDARD
TZOFFSETFROM:+0100
TZOFFSETTO:+0000
TZNAME:GMT
DTSTART:20161030T020000Z
RRULE:FREQ=YEARLY;BYMONTH=10;BYDAY=-1SU
END:STANDARD
END:VTIMEZONE
BEGIN:VEVENT
SUMMARY:Guilt 1x5 - The Eye of the Needle
DTSTAMP:20160705T061601Z
SEQUENCE:0
UID:55993-3-841ebed20eb198c4569419e99b7bf40a@themidnightzone.com
ORGANIZER;CN="Midnight":midnight@themidnightzone.com
DESCRIPTION:A weary Grace spends the night at the police station\, only 
	tobe accosted by paparazzi when she tries to leave. As thesituation turns 
	ugly\, a stranger comes to her rescue. Afteragreeing to go off with the Go
	od Samaritan\, she begins tosuspect that he has darker intentions. When Na
	talie realizesGrace is gone\, she and Detective Bruno frantically search t
	hecity\, hoping to find her sister before it's too late.Meanwhile\, Patric
	k goes undercover at The Courtenay\, a poshsex club\, to get to the bottom
	 of his sister's double life andfind her killer.
DTSTART:20160718T210000Z
DTEND:20160718T220000Z
END:VEVENT
END:VCALENDAR
