BEGIN:VCALENDAR
VERSION:2.0
PRODID:-//InvisionCommunity Events 4.7.23//EN
METHOD:PUBLISH
CALSCALE:GREGORIAN
REFRESH-INTERVAL:PT15M
X-PUBLISHED-TTL:PT15M
X-WR-CALNAME:Pogdesign
NAME:Pogdesign
BEGIN:VTIMEZONE
TZID:Europe/London
TZURL:http://tzurl.org/zoneinfo/Europe/London
X-LIC-LOCATION:Europe/London
BEGIN:DAYLIGHT
TZOFFSETFROM:+0000
TZOFFSETTO:+0100
TZNAME:BST
DTSTART:20160327T020000Z
RRULE:FREQ=YEARLY;BYMONTH=3;BYDAY=-1SU
END:DAYLIGHT
BEGIN:STANDARD
TZOFFSETFROM:+0100
TZOFFSETTO:+0000
TZNAME:GMT
DTSTART:20161030T020000Z
RRULE:FREQ=YEARLY;BYMONTH=10;BYDAY=-1SU
END:STANDARD
END:VTIMEZONE
BEGIN:VEVENT
SUMMARY:The Night Shift 3x8 - All In
DTSTAMP:20160706T141600Z
SEQUENCE:0
UID:56118-3-841ebed20eb198c4569419e99b7bf40a@themidnightzone.com
ORGANIZER;CN="Midnight":midnight@themidnightzone.com
DESCRIPTION:Topher's mother arrives in the ER with life-threateningsympt
	oms. As her condition deteriorates\, the team worksfuriously to save her b
	efore it's too late. Drew and Shannontreat a gravely injured foster mom an
	d while Drew bonds withthe scared young foster daughter\, the team discove
	rs themother has a secret. Meanwhile\, Jordan and Scott treat apatient wit
	h a rare condition and when an important piece ofequipment needed for his 
	treatment fails\, Jordan must enlistthe help of TC's new girlfriend Jessic
	a whose company makes themachine.
DTSTART:20160713T220000Z
DTEND:20160713T230000Z
END:VEVENT
END:VCALENDAR
