BEGIN:VCALENDAR
VERSION:2.0
PRODID:-//InvisionCommunity Events 4.7.23//EN
METHOD:PUBLISH
CALSCALE:GREGORIAN
REFRESH-INTERVAL:PT15M
X-PUBLISHED-TTL:PT15M
X-WR-CALNAME:Pogdesign
NAME:Pogdesign
BEGIN:VTIMEZONE
TZID:Europe/London
TZURL:http://tzurl.org/zoneinfo/Europe/London
X-LIC-LOCATION:Europe/London
BEGIN:DAYLIGHT
TZOFFSETFROM:+0000
TZOFFSETTO:+0100
TZNAME:BST
DTSTART:20160327T020000Z
RRULE:FREQ=YEARLY;BYMONTH=3;BYDAY=-1SU
END:DAYLIGHT
BEGIN:STANDARD
TZOFFSETFROM:+0100
TZOFFSETTO:+0000
TZNAME:GMT
DTSTART:20161030T020000Z
RRULE:FREQ=YEARLY;BYMONTH=10;BYDAY=-1SU
END:STANDARD
END:VTIMEZONE
BEGIN:VEVENT
SUMMARY:Greenleaf 1x7 - One Train May Hide Another
DTSTAMP:20160707T061601Z
SEQUENCE:0
UID:56133-3-841ebed20eb198c4569419e99b7bf40a@themidnightzone.com
ORGANIZER;CN="Midnight":midnight@themidnightzone.com
DESCRIPTION:Mac is slated to be named &quot:Memphis Man of theYear&quot\
	;\, but first must advise Charity about the musicdirector\; help Jacob wit
	h his TV pitch to the Bishop\; anddeal with paranoia about Grace's effort 
	to bring him tojustice. Also on his plate: the IRS audit\; and the unwante
	dappearance of his and Lady Mae's father.
DTSTART:20160720T220000Z
DTEND:20160720T230000Z
END:VEVENT
END:VCALENDAR
