BEGIN:VCALENDAR
VERSION:2.0
PRODID:-//InvisionCommunity Events 4.7.23//EN
METHOD:PUBLISH
CALSCALE:GREGORIAN
REFRESH-INTERVAL:PT15M
X-PUBLISHED-TTL:PT15M
X-WR-CALNAME:Pogdesign
NAME:Pogdesign
BEGIN:VTIMEZONE
TZID:Europe/London
TZURL:http://tzurl.org/zoneinfo/Europe/London
X-LIC-LOCATION:Europe/London
BEGIN:DAYLIGHT
TZOFFSETFROM:+0000
TZOFFSETTO:+0100
TZNAME:BST
DTSTART:20160327T020000Z
RRULE:FREQ=YEARLY;BYMONTH=3;BYDAY=-1SU
END:DAYLIGHT
BEGIN:STANDARD
TZOFFSETFROM:+0100
TZOFFSETTO:+0000
TZNAME:GMT
DTSTART:20161030T020000Z
RRULE:FREQ=YEARLY;BYMONTH=10;BYDAY=-1SU
END:STANDARD
END:VTIMEZONE
BEGIN:VEVENT
SUMMARY:Bones 11x22 - The Nightmare Within the Nightmare
DTSTAMP:20160708T075104Z
SEQUENCE:0
UID:56199-3-841ebed20eb198c4569419e99b7bf40a@themidnightzone.com
ORGANIZER;CN="Midnight":midnight@themidnightzone.com
DESCRIPTION:The team dives back into investigating a serial killer from 
	thepast\, attempting to find &quot\;The Puppeteer&quot\;\, wholives with h
	is victims' bodies before disposing of them.Meanwhile\, Brennan works thro
	ugh her guilt over her retirementlast year\, blaming herself for not stopp
	ing the serial killerearlier. However\, little does she know she might be 
	in sometrouble of her own.
DTSTART:20160721T200000Z
DTEND:20160721T210000Z
END:VEVENT
END:VCALENDAR
