BEGIN:VCALENDAR
VERSION:2.0
PRODID:-//InvisionCommunity Events 4.7.23//EN
METHOD:PUBLISH
CALSCALE:GREGORIAN
REFRESH-INTERVAL:PT15M
X-PUBLISHED-TTL:PT15M
X-WR-CALNAME:Pogdesign
NAME:Pogdesign
BEGIN:VTIMEZONE
TZID:Europe/London
TZURL:http://tzurl.org/zoneinfo/Europe/London
X-LIC-LOCATION:Europe/London
BEGIN:DAYLIGHT
TZOFFSETFROM:+0000
TZOFFSETTO:+0100
TZNAME:BST
DTSTART:20160327T020000Z
RRULE:FREQ=YEARLY;BYMONTH=3;BYDAY=-1SU
END:DAYLIGHT
BEGIN:STANDARD
TZOFFSETFROM:+0100
TZOFFSETTO:+0000
TZNAME:GMT
DTSTART:20161030T020000Z
RRULE:FREQ=YEARLY;BYMONTH=10;BYDAY=-1SU
END:STANDARD
END:VTIMEZONE
BEGIN:VEVENT
SUMMARY:Only Connect 12x2 - Cosmopolitans v Taverners
DTSTAMP:20160710T235101Z
SEQUENCE:0
UID:56287-3-841ebed20eb198c4569419e99b7bf40a@themidnightzone.com
ORGANIZER;CN="Midnight":midnight@themidnightzone.com
DESCRIPTION:Victoria Coren Mitchell hosts the series where knowledge wil
	lonly take you so far. Patience and lateral thinking are alsovital.Three c
	ocktail drinkers take on a trio of taverners inthe second episode. They'll
	 compete to draw together theconnections between things which\, at first g
	lance\, seemutterly random.So join Victoria Coren Mitchell if you want tok
	now what connects Eurovision Song Contest\, Cow &amp\; Gate\,Wall's and I 
	Love New York.
DTSTART:20160718T163000Z
DTEND:20160718T170000Z
END:VEVENT
END:VCALENDAR
