BEGIN:VCALENDAR
VERSION:2.0
PRODID:-//InvisionCommunity Events 4.7.23//EN
METHOD:PUBLISH
CALSCALE:GREGORIAN
REFRESH-INTERVAL:PT15M
X-PUBLISHED-TTL:PT15M
X-WR-CALNAME:Pogdesign
NAME:Pogdesign
BEGIN:VTIMEZONE
TZID:Europe/London
TZURL:http://tzurl.org/zoneinfo/Europe/London
X-LIC-LOCATION:Europe/London
BEGIN:DAYLIGHT
TZOFFSETFROM:+0000
TZOFFSETTO:+0100
TZNAME:BST
DTSTART:20160327T020000Z
RRULE:FREQ=YEARLY;BYMONTH=3;BYDAY=-1SU
END:DAYLIGHT
BEGIN:STANDARD
TZOFFSETFROM:+0100
TZOFFSETTO:+0000
TZNAME:GMT
DTSTART:20161030T020000Z
RRULE:FREQ=YEARLY;BYMONTH=10;BYDAY=-1SU
END:STANDARD
END:VTIMEZONE
BEGIN:VEVENT
SUMMARY:Still the King 1x9 - Hands on a Hard Vessel
DTSTAMP:20160711T075101Z
SEQUENCE:0
UID:56309-3-841ebed20eb198c4569419e99b7bf40a@themidnightzone.com
ORGANIZER;CN="Midnight":midnight@themidnightzone.com
DESCRIPTION:Ronnie drags Debbie and Charlotte to a &quot:hands on a hard
	boat&quot\; competition where whoever can stand with a hand onthe boat win
	s. His interns film the event for Ronnie'snarcissistic documentary. He's p
	umped and taunts the reigningchampion\, Vance. Vernon also attends but lea
	ves abruptly whenhe sees Charlotte take off to a boat party with Dallas an
	dfellow musicians. Debbie follows\, questioning Vernon'sparenting know-how
	. Vernon steals a jet-boat to get there. Intheir pursuit from boat to boat
	\, they party\, bond\, and getdrunk. When they find her it is pretty PG. W
	alt was also at thecontest but left when fellow P.M.S. members called him 
	away tothe woods where they found a &quot\;Sasquatch nest&quot\;. Waltarri
	ves only to find out they are pranking him. Determined toprove his &quot\;
	Son of Sasquatch&quot\; theory\, Walt stealsDNA evidence from Dale's trash
	can. The next morning\, Debbiewakes up in the boat next to Vernon. Ronnie 
	loses thecompetition when an unexpected\, tiny visitor emergesvictorious.
DTSTART:20160724T210000Z
DTEND:20160724T213000Z
END:VEVENT
END:VCALENDAR
