BEGIN:VCALENDAR
VERSION:2.0
PRODID:-//InvisionCommunity Events 4.7.23//EN
METHOD:PUBLISH
CALSCALE:GREGORIAN
REFRESH-INTERVAL:PT15M
X-PUBLISHED-TTL:PT15M
X-WR-CALNAME:At My TV
NAME:At My TV
BEGIN:VTIMEZONE
TZID:Europe/London
TZURL:http://tzurl.org/zoneinfo/Europe/London
X-LIC-LOCATION:Europe/London
BEGIN:DAYLIGHT
TZOFFSETFROM:+0000
TZOFFSETTO:+0100
TZNAME:BST
DTSTART:20160327T020000Z
RRULE:FREQ=YEARLY;BYMONTH=3;BYDAY=-1SU
END:DAYLIGHT
BEGIN:STANDARD
TZOFFSETFROM:+0100
TZOFFSETTO:+0000
TZNAME:GMT
DTSTART:20161030T020000Z
RRULE:FREQ=YEARLY;BYMONTH=10;BYDAY=-1SU
END:STANDARD
END:VTIMEZONE
BEGIN:VEVENT
SUMMARY:Wentworth 4x12 - Seeing Red
DTSTAMP:20160712T060904Z
SEQUENCE:0
UID:56366-2-841ebed20eb198c4569419e99b7bf40a@themidnightzone.com
ORGANIZER;CN="Midnight":midnight@themidnightzone.com
DESCRIPTION:Bea awakes blissfully happy after a night with Allie\, but i
	tis the eve of Ferguson's trail and the Freak has beenrelentless in puttin
	g the final touches to her scheme forfreedom and exoneration. She's pitted
	 Bea and Kaz against eachother again and has sparked chaos for Vera and Wi
	ll with a fullblown investigation into the drug trade within the prison. L
	izbecomes convinced of Sonia's innocence and Don puts a offer toLiz which 
	could change her Life. Maxine Is committed intochemotherapy and her prison
	 family rallies around her. On Trailday Ferguson's passing comment about c
	ollateral damagerefocuses Bea's attention. Bea calls Franky for help on th
	eoutside as the intricate web of Ferguson's strategy is revealed
DTSTART:20160726T103000Z
DTEND:20160726T113000Z
END:VEVENT
END:VCALENDAR
