BEGIN:VCALENDAR
VERSION:2.0
PRODID:-//InvisionCommunity Events 4.7.23//EN
METHOD:PUBLISH
CALSCALE:GREGORIAN
REFRESH-INTERVAL:PT15M
X-PUBLISHED-TTL:PT15M
X-WR-CALNAME:Pogdesign
NAME:Pogdesign
BEGIN:VTIMEZONE
TZID:Europe/London
TZURL:http://tzurl.org/zoneinfo/Europe/London
X-LIC-LOCATION:Europe/London
BEGIN:DAYLIGHT
TZOFFSETFROM:+0000
TZOFFSETTO:+0100
TZNAME:BST
DTSTART:20160327T020000Z
RRULE:FREQ=YEARLY;BYMONTH=3;BYDAY=-1SU
END:DAYLIGHT
BEGIN:STANDARD
TZOFFSETFROM:+0100
TZOFFSETTO:+0000
TZNAME:GMT
DTSTART:20161030T020000Z
RRULE:FREQ=YEARLY;BYMONTH=10;BYDAY=-1SU
END:STANDARD
END:VTIMEZONE
BEGIN:VEVENT
SUMMARY:Big Brother (US) 18x13 - Power of Veto 4
DTSTAMP:20160712T180900Z
SEQUENCE:0
UID:56386-3-841ebed20eb198c4569419e99b7bf40a@themidnightzone.com
ORGANIZER;CN="Midnight":midnight@themidnightzone.com
DESCRIPTION:On the last episode of Big Brother on Thursday night Paulie 
	wonthe HoH competition for the 2nd time this season. On Sunday heput up Ti
	ffany and Nicole onto the Block to be evicted out ofthe house.  This was T
	iffany's 3rd consecutive selection of theseason. The 4th BB Roadkill compe
	tition of the summer was heldnext and it was called &quot\;Gasping For Air
	&quot\;. The RVhad filled with some awful gaseous like smells and the obje
	ctof this game was to hang the most Air Fresheners onto theircorresponding
	 colored poles in the shortest amount of time aspossible. Tiffany was the 
	winner of this competition and shetold Da'Vonne\, Bridgette &amp\; Frank. 
	She asked Bridgette andFrank who they thought she should put up on the Blo
	ck Corey orNicole. They decided Corey was not good at competitions and she
	should select him but if he should take himself off the Blockthen they cou
	ld still backdoor Nicole in his place. Tiffanysecretly selected Corey to b
	e the 3rd nominee to be put up ontothe Block for the week. Tonight the 4th
	 Veto competition willbe held and the winner has the choice of either remo
	ving 1 ofthe 3 Houseguests off of the Block or leaving the Nominationsas t
	hey are.
DTSTART:20160720T200000Z
DTEND:20160720T210000Z
END:VEVENT
END:VCALENDAR
