BEGIN:VCALENDAR
VERSION:2.0
PRODID:-//InvisionCommunity Events 4.7.23//EN
METHOD:PUBLISH
CALSCALE:GREGORIAN
REFRESH-INTERVAL:PT15M
X-PUBLISHED-TTL:PT15M
X-WR-CALNAME:Pogdesign
NAME:Pogdesign
BEGIN:VTIMEZONE
TZID:Europe/London
TZURL:http://tzurl.org/zoneinfo/Europe/London
X-LIC-LOCATION:Europe/London
BEGIN:DAYLIGHT
TZOFFSETFROM:+0000
TZOFFSETTO:+0100
TZNAME:BST
DTSTART:20160327T020000Z
RRULE:FREQ=YEARLY;BYMONTH=3;BYDAY=-1SU
END:DAYLIGHT
BEGIN:STANDARD
TZOFFSETFROM:+0100
TZOFFSETTO:+0000
TZNAME:GMT
DTSTART:20161030T020000Z
RRULE:FREQ=YEARLY;BYMONTH=10;BYDAY=-1SU
END:STANDARD
END:VTIMEZONE
BEGIN:VEVENT
SUMMARY:Dead of Summer 1x5 - How To Stay Alive In The Woods
DTSTAMP:20160713T101001Z
SEQUENCE:0
UID:56420-3-841ebed20eb198c4569419e99b7bf40a@themidnightzone.com
ORGANIZER;CN="Midnight":midnight@themidnightzone.com
DESCRIPTION:Deb and the counselors take the campers on an overnight camp
	ingtrip deep into the woods for an unforgettable experience. Aseveryone is
	 pitching tents and trying to find the perfectmarshmallow roasting stick\,
	 Joel grows uneasy about what ishappening at Camp Stillwater. Meanwhile\, 
	flashbacks featureJoel.
DTSTART:20160726T210000Z
DTEND:20160726T215500Z
END:VEVENT
END:VCALENDAR
