BEGIN:VCALENDAR
VERSION:2.0
PRODID:-//InvisionCommunity Events 4.7.23//EN
METHOD:PUBLISH
CALSCALE:GREGORIAN
REFRESH-INTERVAL:PT15M
X-PUBLISHED-TTL:PT15M
X-WR-CALNAME:Pogdesign
NAME:Pogdesign
BEGIN:VTIMEZONE
TZID:Europe/London
TZURL:http://tzurl.org/zoneinfo/Europe/London
X-LIC-LOCATION:Europe/London
BEGIN:DAYLIGHT
TZOFFSETFROM:+0000
TZOFFSETTO:+0100
TZNAME:BST
DTSTART:20160327T020000Z
RRULE:FREQ=YEARLY;BYMONTH=3;BYDAY=-1SU
END:DAYLIGHT
BEGIN:STANDARD
TZOFFSETFROM:+0100
TZOFFSETTO:+0000
TZNAME:GMT
DTSTART:20161030T020000Z
RRULE:FREQ=YEARLY;BYMONTH=10;BYDAY=-1SU
END:STANDARD
END:VTIMEZONE
BEGIN:VEVENT
SUMMARY:Odd Mom Out 2x6 - Knock of Shame
DTSTAMP:20160717T180959Z
SEQUENCE:0
UID:56584-3-841ebed20eb198c4569419e99b7bf40a@themidnightzone.com
ORGANIZER;CN="Midnight":midnight@themidnightzone.com
DESCRIPTION:During a historic blizzard\, Jill and Andy find the family o
	ftheir dreams - Meredith (Drew Barrymore) and Brad (JohnHodgman)\, and the
	ir three kids - without even leaving theirapartment building. Meredith's a
	s irreverent as Jill\, Brad'sas unpretentious as Andy\, and their kids get
	 along like ahouse on fire. It's a perfect match. Until it's not...
DTSTART:20160725T220000Z
DTEND:20160725T223000Z
END:VEVENT
END:VCALENDAR
