BEGIN:VCALENDAR
VERSION:2.0
PRODID:-//InvisionCommunity Events 4.7.23//EN
METHOD:PUBLISH
CALSCALE:GREGORIAN
REFRESH-INTERVAL:PT15M
X-PUBLISHED-TTL:PT15M
X-WR-CALNAME:Pogdesign
NAME:Pogdesign
BEGIN:VTIMEZONE
TZID:Europe/London
TZURL:http://tzurl.org/zoneinfo/Europe/London
X-LIC-LOCATION:Europe/London
BEGIN:DAYLIGHT
TZOFFSETFROM:+0000
TZOFFSETTO:+0100
TZNAME:BST
DTSTART:20160327T020000Z
RRULE:FREQ=YEARLY;BYMONTH=3;BYDAY=-1SU
END:DAYLIGHT
BEGIN:STANDARD
TZOFFSETFROM:+0100
TZOFFSETTO:+0000
TZNAME:GMT
DTSTART:20161030T020000Z
RRULE:FREQ=YEARLY;BYMONTH=10;BYDAY=-1SU
END:STANDARD
END:VTIMEZONE
BEGIN:VEVENT
SUMMARY:American Gothic 1x7 - The Gross Clinic
DTSTAMP:20160721T101000Z
SEQUENCE:0
UID:56792-3-841ebed20eb198c4569419e99b7bf40a@themidnightzone.com
ORGANIZER;CN="Midnight":midnight@themidnightzone.com
DESCRIPTION:A major revelation about the Silver Bells murders turnsevery
	one's world in the Hawthorne family upside-down: Christinaloses trust in G
	arrett\, Alison's mayoral campaign sinks\,Cam's sobriety is tested\, and T
	essa witnesses disturbing newbehavior in Jack. Also\, Brady is worried tha
	t the newinformation about Silver Bells isn't exactly what it seems tobe.
DTSTART:20160803T220000Z
DTEND:20160803T230000Z
END:VEVENT
END:VCALENDAR
