BEGIN:VCALENDAR
VERSION:2.0
PRODID:-//InvisionCommunity Events 4.7.23//EN
METHOD:PUBLISH
CALSCALE:GREGORIAN
REFRESH-INTERVAL:PT15M
X-PUBLISHED-TTL:PT15M
X-WR-CALNAME:Pogdesign
NAME:Pogdesign
BEGIN:VTIMEZONE
TZID:Europe/London
TZURL:http://tzurl.org/zoneinfo/Europe/London
X-LIC-LOCATION:Europe/London
BEGIN:DAYLIGHT
TZOFFSETFROM:+0000
TZOFFSETTO:+0100
TZNAME:BST
DTSTART:20160327T020000Z
RRULE:FREQ=YEARLY;BYMONTH=3;BYDAY=-1SU
END:DAYLIGHT
BEGIN:STANDARD
TZOFFSETFROM:+0100
TZOFFSETTO:+0000
TZNAME:GMT
DTSTART:20161030T020000Z
RRULE:FREQ=YEARLY;BYMONTH=10;BYDAY=-1SU
END:STANDARD
END:VTIMEZONE
BEGIN:VEVENT
SUMMARY:Guilt 1x8 - Eyes Wide Open
DTSTAMP:20160726T101000Z
SEQUENCE:0
UID:56990-3-841ebed20eb198c4569419e99b7bf40a@themidnightzone.com
ORGANIZER;CN="Midnight":midnight@themidnightzone.com
DESCRIPTION:As Stan works on Grace's defense\, Graces struggles to remem
	bera chunk of missing time on the night of Molly's murder. Stanwants to br
	ing in a forensic psychiatrist who specializes inMemory Recovery Therapy t
	o help discover what Grace might haveblacked out from that night. Natalie 
	develops her own theoryabout Prince Theo and goes to Bruno for help\, not 
	knowing he'sbeen covering up the Prince's tracks along the way. But Theoha
	s his own problems when he realizes Charlotte has figured outhis lies abou
	t Molly. Meanwhile\, Patrick discovers the Princeis Gentleman 33\, who hap
	pened to be Molly's best customer atthe Courtenay.
DTSTART:20160808T210000Z
DTEND:20160808T220000Z
END:VEVENT
END:VCALENDAR
