BEGIN:VCALENDAR
VERSION:2.0
PRODID:-//InvisionCommunity Events 4.7.23//EN
METHOD:PUBLISH
CALSCALE:GREGORIAN
REFRESH-INTERVAL:PT15M
X-PUBLISHED-TTL:PT15M
X-WR-CALNAME:Pogdesign
NAME:Pogdesign
BEGIN:VTIMEZONE
TZID:Europe/London
TZURL:http://tzurl.org/zoneinfo/Europe/London
X-LIC-LOCATION:Europe/London
BEGIN:DAYLIGHT
TZOFFSETFROM:+0000
TZOFFSETTO:+0100
TZNAME:BST
DTSTART:20160327T020000Z
RRULE:FREQ=YEARLY;BYMONTH=3;BYDAY=-1SU
END:DAYLIGHT
BEGIN:STANDARD
TZOFFSETFROM:+0100
TZOFFSETTO:+0000
TZNAME:GMT
DTSTART:20161030T020000Z
RRULE:FREQ=YEARLY;BYMONTH=10;BYDAY=-1SU
END:STANDARD
END:VTIMEZONE
BEGIN:VEVENT
SUMMARY:Young & Hungry 3x20 - Young & Screwed
DTSTAMP:20160727T181000Z
SEQUENCE:0
UID:57050-3-841ebed20eb198c4569419e99b7bf40a@themidnightzone.com
ORGANIZER;CN="Midnight":midnight@themidnightzone.com
DESCRIPTION:Gabi\, Sofia\, and Yolanda have to stay over with Josh while
	their building is treated for termites. But Josh and Gabi areuncomfortable
	 staying together and try to make sense of anawkward situation. Meanwhile\
	, Alan suggests a weekend getawayto cheer up Elliot\, but his destination 
	of choice is Josh'spenthouse\, making it an even more crowded house.
DTSTART:20160803T200000Z
DTEND:20160803T203000Z
END:VEVENT
END:VCALENDAR
