BEGIN:VCALENDAR
VERSION:2.0
PRODID:-//InvisionCommunity Events 4.7.23//EN
METHOD:PUBLISH
CALSCALE:GREGORIAN
REFRESH-INTERVAL:PT15M
X-PUBLISHED-TTL:PT15M
X-WR-CALNAME:At My TV
NAME:At My TV
BEGIN:VTIMEZONE
TZID:Europe/London
TZURL:http://tzurl.org/zoneinfo/Europe/London
X-LIC-LOCATION:Europe/London
BEGIN:DAYLIGHT
TZOFFSETFROM:+0000
TZOFFSETTO:+0100
TZNAME:BST
DTSTART:20160327T020000Z
RRULE:FREQ=YEARLY;BYMONTH=3;BYDAY=-1SU
END:DAYLIGHT
BEGIN:STANDARD
TZOFFSETFROM:+0100
TZOFFSETTO:+0000
TZNAME:GMT
DTSTART:20161030T020000Z
RRULE:FREQ=YEARLY;BYMONTH=10;BYDAY=-1SU
END:STANDARD
END:VTIMEZONE
BEGIN:VEVENT
SUMMARY:Suspects 5x3 - The Enemy Within: Part 3
DTSTAMP:20160811T061002Z
SEQUENCE:0
UID:57556-2-841ebed20eb198c4569419e99b7bf40a@themidnightzone.com
ORGANIZER;CN="Midnight":midnight@themidnightzone.com
DESCRIPTION:When a girl is raped on her way home\, Jack tries to conceal
	his connection to the key witness in the case\, Lucy. The16-year-old has b
	een living with him since he discovered thatshe is probably his daughter\,
	 and Charlie reluctantly agreesto keep his secret. However\, it soon becom
	es clear that bothgirls are lying about that evening\, and when more evide
	nceemerges\, Charlie cannot stay silent for much longer
DTSTART:20160817T210000Z
DTEND:20160817T220000Z
END:VEVENT
END:VCALENDAR
