BEGIN:VCALENDAR
VERSION:2.0
PRODID:-//InvisionCommunity Events 4.7.23//EN
METHOD:PUBLISH
CALSCALE:GREGORIAN
REFRESH-INTERVAL:PT15M
X-PUBLISHED-TTL:PT15M
X-WR-CALNAME:Pogdesign
NAME:Pogdesign
BEGIN:VTIMEZONE
TZID:Europe/London
TZURL:http://tzurl.org/zoneinfo/Europe/London
X-LIC-LOCATION:Europe/London
BEGIN:DAYLIGHT
TZOFFSETFROM:+0000
TZOFFSETTO:+0100
TZNAME:BST
DTSTART:20160327T020000Z
RRULE:FREQ=YEARLY;BYMONTH=3;BYDAY=-1SU
END:DAYLIGHT
BEGIN:STANDARD
TZOFFSETFROM:+0100
TZOFFSETTO:+0000
TZNAME:GMT
DTSTART:20161030T020000Z
RRULE:FREQ=YEARLY;BYMONTH=10;BYDAY=-1SU
END:STANDARD
END:VTIMEZONE
BEGIN:VEVENT
SUMMARY:Greenleaf 1x12 - Veni\, Vidi\, Vici
DTSTAMP:20160811T101001Z
SEQUENCE:0
UID:57567-3-841ebed20eb198c4569419e99b7bf40a@themidnightzone.com
ORGANIZER;CN="Midnight":midnight@themidnightzone.com
DESCRIPTION:Grace\, Ray and Sophia go to court: Basie\, the Bishop andJa
	cob discuss an opportunity at Triumph\; Deacon Sykes wants tohold a &quot\
	;women's day&quot\; at a smaller venue\; Adriangets the wrong idea about h
	is lunch with Kevin\; Mavis hasproblems with her club\; and Kevin shares h
	is feelings withCharity.
DTSTART:20160824T220000Z
DTEND:20160824T230000Z
END:VEVENT
END:VCALENDAR
