BEGIN:VCALENDAR
VERSION:2.0
PRODID:-//InvisionCommunity Events 4.7.23//EN
METHOD:PUBLISH
CALSCALE:GREGORIAN
REFRESH-INTERVAL:PT15M
X-PUBLISHED-TTL:PT15M
X-WR-CALNAME:Pogdesign
NAME:Pogdesign
BEGIN:VTIMEZONE
TZID:Europe/London
TZURL:http://tzurl.org/zoneinfo/Europe/London
X-LIC-LOCATION:Europe/London
BEGIN:DAYLIGHT
TZOFFSETFROM:+0000
TZOFFSETTO:+0100
TZNAME:BST
DTSTART:20160327T020000Z
RRULE:FREQ=YEARLY;BYMONTH=3;BYDAY=-1SU
END:DAYLIGHT
BEGIN:STANDARD
TZOFFSETFROM:+0100
TZOFFSETTO:+0000
TZNAME:GMT
DTSTART:20161030T020000Z
RRULE:FREQ=YEARLY;BYMONTH=10;BYDAY=-1SU
END:STANDARD
END:VTIMEZONE
BEGIN:VEVENT
SUMMARY:Ice Road Truckers 10x4 - Trial by Ice
DTSTAMP:20160812T101000Z
SEQUENCE:0
UID:57593-3-841ebed20eb198c4569419e99b7bf40a@themidnightzone.com
ORGANIZER;CN="Midnight":midnight@themidnightzone.com
DESCRIPTION:Darrell Ward and Lisa Kelly head into Alberta looking to exp
	andtheir company\, and encounter a trail called &quot\;the DeathRoad&quot\
	;\; Art Burke takes on the ice crossing where henearly lost his life\; Pol
	ar's top dog Todd Dewey takes rookieSteph Custance under wing\, as she emb
	arks on her firstice-roads journey.
DTSTART:20160825T210000Z
DTEND:20160825T220000Z
END:VEVENT
END:VCALENDAR
