BEGIN:VCALENDAR
VERSION:2.0
PRODID:-//InvisionCommunity Events 4.7.23//EN
METHOD:PUBLISH
CALSCALE:GREGORIAN
REFRESH-INTERVAL:PT15M
X-PUBLISHED-TTL:PT15M
X-WR-CALNAME:Pogdesign
NAME:Pogdesign
BEGIN:VTIMEZONE
TZID:Europe/London
TZURL:http://tzurl.org/zoneinfo/Europe/London
X-LIC-LOCATION:Europe/London
BEGIN:DAYLIGHT
TZOFFSETFROM:+0000
TZOFFSETTO:+0100
TZNAME:BST
DTSTART:20160327T020000Z
RRULE:FREQ=YEARLY;BYMONTH=3;BYDAY=-1SU
END:DAYLIGHT
BEGIN:STANDARD
TZOFFSETFROM:+0100
TZOFFSETTO:+0000
TZNAME:GMT
DTSTART:20161030T020000Z
RRULE:FREQ=YEARLY;BYMONTH=10;BYDAY=-1SU
END:STANDARD
END:VTIMEZONE
BEGIN:VEVENT
SUMMARY:Victoria 1x2 - Ladies in Waiting
DTSTAMP:20160822T101000Z
SEQUENCE:0
UID:57930-3-841ebed20eb198c4569419e99b7bf40a@themidnightzone.com
ORGANIZER;CN="Midnight":midnight@themidnightzone.com
DESCRIPTION:As Lord Melbourne's popularity in the house wanes\, the Tori
	eseagerly await their imminent triumph\, while the Duke ofCumberland views
	 it as a chance to prey on his niece'svulnerability and establish a co-reg
	ency with the Duchess ofKent and Conroy. Victoria is devastated when Melbo
	urneregretfully announces he is stepping down and even morebewildered that
	 she must ask complete stranger Sir Robert Peelto form a government\, and 
	she desperately implores Melbourneto return.
DTSTART:20160829T160000Z
DTEND:20160829T170000Z
END:VEVENT
END:VCALENDAR
