BEGIN:VCALENDAR
VERSION:2.0
PRODID:-//InvisionCommunity Events 4.7.23//EN
METHOD:PUBLISH
CALSCALE:GREGORIAN
REFRESH-INTERVAL:PT15M
X-PUBLISHED-TTL:PT15M
X-WR-CALNAME:At My TV
NAME:At My TV
BEGIN:VTIMEZONE
TZID:Europe/London
TZURL:http://tzurl.org/zoneinfo/Europe/London
X-LIC-LOCATION:Europe/London
BEGIN:DAYLIGHT
TZOFFSETFROM:+0000
TZOFFSETTO:+0100
TZNAME:BST
DTSTART:20160327T020000Z
RRULE:FREQ=YEARLY;BYMONTH=3;BYDAY=-1SU
END:DAYLIGHT
BEGIN:STANDARD
TZOFFSETFROM:+0100
TZOFFSETTO:+0000
TZNAME:GMT
DTSTART:20161030T020000Z
RRULE:FREQ=YEARLY;BYMONTH=10;BYDAY=-1SU
END:STANDARD
END:VTIMEZONE
BEGIN:VEVENT
SUMMARY:Casualty 31x3 - Strike Three
DTSTAMP:20160827T071702Z
SEQUENCE:0
UID:58128-2-841ebed20eb198c4569419e99b7bf40a@themidnightzone.com
ORGANIZER;CN="Midnight":midnight@themidnightzone.com
DESCRIPTION:Jac Naylor comes down to the Emergency Department to perform
	 anemergency operation and Iain finds his injuries affecting hiswork. Lily
	 suspects he's not well and persuades him to bere-examined. She helps him 
	see that he doesn't have to be MrAction Man all the time\, and a strange f
	riendship is bornbetween them.Robyn is wracking her brain to think of some
	thingspecial to do for Glen. But he surprises her by saying that thething 
	that would make him most happy is to do all the thingsthat make her happy.
	 She decides to take some time off work andthey consider going to Euro Dis
	ney. Meanwhile David tries tomake contact with his son.
DTSTART:20160910T190000Z
DTEND:20160910T195000Z
END:VEVENT
END:VCALENDAR
