BEGIN:VCALENDAR
VERSION:2.0
PRODID:-//InvisionCommunity Events 4.7.23//EN
METHOD:PUBLISH
CALSCALE:GREGORIAN
REFRESH-INTERVAL:PT15M
X-PUBLISHED-TTL:PT15M
X-WR-CALNAME:Pogdesign
NAME:Pogdesign
BEGIN:VTIMEZONE
TZID:Europe/London
TZURL:http://tzurl.org/zoneinfo/Europe/London
X-LIC-LOCATION:Europe/London
BEGIN:DAYLIGHT
TZOFFSETFROM:+0000
TZOFFSETTO:+0100
TZNAME:BST
DTSTART:20160327T020000Z
RRULE:FREQ=YEARLY;BYMONTH=3;BYDAY=-1SU
END:DAYLIGHT
BEGIN:STANDARD
TZOFFSETFROM:+0100
TZOFFSETTO:+0000
TZNAME:GMT
DTSTART:20161030T020000Z
RRULE:FREQ=YEARLY;BYMONTH=10;BYDAY=-1SU
END:STANDARD
END:VTIMEZONE
BEGIN:VEVENT
SUMMARY:Son of Zorn 1x1 - Return To Orange County
DTSTAMP:20160829T111700Z
SEQUENCE:0
UID:58245-3-841ebed20eb198c4569419e99b7bf40a@themidnightzone.com
ORGANIZER;CN="Midnight":midnight@themidnightzone.com
DESCRIPTION:When Zorn travels from his native land of Zephyria toCalifor
	nia to visit his son\, Alangulon\, aka Alan\, he learnsthat his ex-wife\, 
	Edie\, has a fiancé. But to reconnect withhis son\, Zorn stays and obtain
	s a job where\, despite his&quot\;unique&quot\; qualities\, he is welcomed
	 by his newboss.
DTSTART:20160911T203000Z
DTEND:20160911T210000Z
END:VEVENT
END:VCALENDAR
