BEGIN:VCALENDAR
VERSION:2.0
PRODID:-//InvisionCommunity Events 4.7.23//EN
METHOD:PUBLISH
CALSCALE:GREGORIAN
REFRESH-INTERVAL:PT15M
X-PUBLISHED-TTL:PT15M
X-WR-CALNAME:At My TV
NAME:At My TV
BEGIN:VTIMEZONE
TZID:Europe/London
TZURL:http://tzurl.org/zoneinfo/Europe/London
X-LIC-LOCATION:Europe/London
BEGIN:DAYLIGHT
TZOFFSETFROM:+0000
TZOFFSETTO:+0100
TZNAME:BST
DTSTART:20160327T020000Z
RRULE:FREQ=YEARLY;BYMONTH=3;BYDAY=-1SU
END:DAYLIGHT
BEGIN:STANDARD
TZOFFSETFROM:+0100
TZOFFSETTO:+0000
TZNAME:GMT
DTSTART:20161030T020000Z
RRULE:FREQ=YEARLY;BYMONTH=10;BYDAY=-1SU
END:STANDARD
END:VTIMEZONE
BEGIN:VEVENT
SUMMARY:Ray Donovan 4x12 - Rattus Rattus
DTSTAMP:20160905T071702Z
SEQUENCE:0
UID:58470-2-841ebed20eb198c4569419e99b7bf40a@themidnightzone.com
ORGANIZER;CN="Midnight":midnight@themidnightzone.com
DESCRIPTION:In the Season 4 finale\, Ray\, hoping his deal with Hector w
	illbe his family's salvation\, learns that Sonia has turned overincriminat
	ing evidence to FBI agent Frank Barnes. Ray is forcedto wear a wire\, but 
	decides to play the Russian mob off theFBI\, but things take a dangerous t
	urn. Meanwhile\, Mickey'sattempt to cash in on the big fight leads him to 
	a discoverythat could help Ray against both sides.
DTSTART:20160919T010000Z
DTEND:20160919T020000Z
END:VEVENT
END:VCALENDAR
