BEGIN:VCALENDAR
VERSION:2.0
PRODID:-//InvisionCommunity Events 4.7.23//EN
METHOD:PUBLISH
CALSCALE:GREGORIAN
REFRESH-INTERVAL:PT15M
X-PUBLISHED-TTL:PT15M
X-WR-CALNAME:Pogdesign
NAME:Pogdesign
BEGIN:VTIMEZONE
TZID:Europe/London
TZURL:http://tzurl.org/zoneinfo/Europe/London
X-LIC-LOCATION:Europe/London
BEGIN:DAYLIGHT
TZOFFSETFROM:+0000
TZOFFSETTO:+0100
TZNAME:BST
DTSTART:20160327T020000Z
RRULE:FREQ=YEARLY;BYMONTH=3;BYDAY=-1SU
END:DAYLIGHT
BEGIN:STANDARD
TZOFFSETFROM:+0100
TZOFFSETTO:+0000
TZNAME:GMT
DTSTART:20161030T020000Z
RRULE:FREQ=YEARLY;BYMONTH=10;BYDAY=-1SU
END:STANDARD
END:VTIMEZONE
BEGIN:VEVENT
SUMMARY:Cold Feet 6x2 - Series 6\, Episode 2
DTSTAMP:20160906T111700Z
SEQUENCE:0
UID:58522-3-841ebed20eb198c4569419e99b7bf40a@themidnightzone.com
ORGANIZER;CN="Midnight":midnight@themidnightzone.com
DESCRIPTION:As Pete chauffeurs the 'happy' couple away from the weddingv
	enue Adam reveals that he's changed his mind about starting afuture togeth
	er in Singapore. His son Matthew needs him inManchester. The Giffords mone
	y worries have taken a toll ontheir marriage and in particular\, their sex
	 life. In anattempt to lift Pete's spirits\, Jen reminds him of the bedroo
	mfantasies they used to act out when they were younger\, butit's going to 
	take more than a French maid's costume to snapPete out of this one. Jenny 
	knows that she's turned the head ofa client at work and can't fail to be f
	lattered. Trevor ispersistent but Jenny would never cheat on her beloved P
	ete\,would she? Under pressure from his boss\, David continues totry and i
	mpress Adam's father-in-law\, millionairebusinessman\, Eddie Zubayr\, even
	 enlisting the help of ex-wifeKaren\, whom Eddie clearly has designs on. W
	hen David invitesEddie along to the corporate box at Old Trafford his CEO 
	getswind of the fact and invites himself along forcing David to lethis old
	 friends down. As the dads and lads watch on the matchon the pub's big scr
	een\, Adam notices that even the win isn'tputting a smile on Pete's face. 
	Could there be more to his moodthan sim.
DTSTART:20160912T170000Z
DTEND:20160912T180000Z
END:VEVENT
END:VCALENDAR
