BEGIN:VCALENDAR
VERSION:2.0
PRODID:-//InvisionCommunity Events 4.7.23//EN
METHOD:PUBLISH
CALSCALE:GREGORIAN
REFRESH-INTERVAL:PT15M
X-PUBLISHED-TTL:PT15M
X-WR-CALNAME:Pogdesign
NAME:Pogdesign
BEGIN:VTIMEZONE
TZID:Europe/London
TZURL:http://tzurl.org/zoneinfo/Europe/London
X-LIC-LOCATION:Europe/London
BEGIN:DAYLIGHT
TZOFFSETFROM:+0000
TZOFFSETTO:+0100
TZNAME:BST
DTSTART:20160327T020000Z
RRULE:FREQ=YEARLY;BYMONTH=3;BYDAY=-1SU
END:DAYLIGHT
BEGIN:STANDARD
TZOFFSETFROM:+0100
TZOFFSETTO:+0000
TZNAME:GMT
DTSTART:20161030T020000Z
RRULE:FREQ=YEARLY;BYMONTH=10;BYDAY=-1SU
END:STANDARD
END:VTIMEZONE
BEGIN:VEVENT
SUMMARY:One Mississippi 1x4 - Let the Good Times Roll
DTSTAMP:20160907T191659Z
SEQUENCE:0
UID:58591-3-841ebed20eb198c4569419e99b7bf40a@themidnightzone.com
ORGANIZER;CN="Midnight":midnight@themidnightzone.com
DESCRIPTION:Finally feeling better\, Tig readies for her return to LA. B
	utbefore she goes\, she is roped into replacing her mother asMardi Gras Qu
	een at the Bay St. Lucille parade. Remy and Billare stymied in their searc
	h for romance and cats\,respectively. Tig searches for Kate at the parade\
	, but insteadencounters Jessie\, a news reporter who makes her want to sta
	yin town a bit longer.
DTSTART:20160911T235900Z
DTEND:20160912T005900Z
END:VEVENT
END:VCALENDAR
