BEGIN:VCALENDAR
VERSION:2.0
PRODID:-//InvisionCommunity Events 4.7.23//EN
METHOD:PUBLISH
CALSCALE:GREGORIAN
REFRESH-INTERVAL:PT15M
X-PUBLISHED-TTL:PT15M
X-WR-CALNAME:At My TV
NAME:At My TV
BEGIN:VTIMEZONE
TZID:Europe/London
TZURL:http://tzurl.org/zoneinfo/Europe/London
X-LIC-LOCATION:Europe/London
BEGIN:DAYLIGHT
TZOFFSETFROM:+0000
TZOFFSETTO:+0100
TZNAME:BST
DTSTART:20160327T020000Z
RRULE:FREQ=YEARLY;BYMONTH=3;BYDAY=-1SU
END:DAYLIGHT
BEGIN:STANDARD
TZOFFSETFROM:+0100
TZOFFSETTO:+0000
TZNAME:GMT
DTSTART:20161030T020000Z
RRULE:FREQ=YEARLY;BYMONTH=10;BYDAY=-1SU
END:STANDARD
END:VTIMEZONE
BEGIN:VEVENT
SUMMARY:Westworld 1x1 - The Original
DTSTAMP:20160919T090302Z
SEQUENCE:0
UID:59333-2-841ebed20eb198c4569419e99b7bf40a@themidnightzone.com
ORGANIZER;CN="Midnight":midnight@themidnightzone.com
DESCRIPTION:As another day of fantasy plays out in Westworld – a vast\
	,remote park where guests pay top dollar to share wild-westadventures with
	 android \"hosts\" – top programmer Bernard Lowealerts park founder Dr. 
	Robert Ford about incidents of aberrantbehavior cropping up in some recent
	ly re-coded hosts.Meanwhile\, in the Westworld town of Sweetwater\, a ranc
	her'sdaughter named Dolores encounters a gunslinger named Teddy inthe stre
	et – but their predictable narrative is upended bythe appearance of a ru
	thless Man in Black and\, later\, by asupporting host's unscripted encount
	er with an artifact of theoutside world.
DTSTART:20161003T010000Z
DTEND:20161003T020000Z
END:VEVENT
END:VCALENDAR
