BEGIN:VCALENDAR
VERSION:2.0
PRODID:-//InvisionCommunity Events 4.7.23//EN
METHOD:PUBLISH
CALSCALE:GREGORIAN
REFRESH-INTERVAL:PT15M
X-PUBLISHED-TTL:PT15M
X-WR-CALNAME:Pogdesign
NAME:Pogdesign
BEGIN:VTIMEZONE
TZID:Europe/London
TZURL:http://tzurl.org/zoneinfo/Europe/London
X-LIC-LOCATION:Europe/London
BEGIN:DAYLIGHT
TZOFFSETFROM:+0000
TZOFFSETTO:+0100
TZNAME:BST
DTSTART:20160327T020000Z
RRULE:FREQ=YEARLY;BYMONTH=3;BYDAY=-1SU
END:DAYLIGHT
BEGIN:STANDARD
TZOFFSETFROM:+0100
TZOFFSETTO:+0000
TZNAME:GMT
DTSTART:20161030T020000Z
RRULE:FREQ=YEARLY;BYMONTH=10;BYDAY=-1SU
END:STANDARD
END:VTIMEZONE
BEGIN:VEVENT
SUMMARY:Modern Family 8x4 - Weathering Heights
DTSTAMP:20160929T062601Z
SEQUENCE:0
UID:59849-3-841ebed20eb198c4569419e99b7bf40a@themidnightzone.com
ORGANIZER;CN="Midnight":midnight@themidnightzone.com
DESCRIPTION:Phil can't cover up his excitement when he's invited to appe
	arin a real-estate news segment for the local news. The day getseven bette
	r after meeting his &quot\;weatherman&quot\; hero\,Rainer Shine. Phil made
	 one little mistake\; he introduced himto Hayley. Over at the Pritchett ho
	use\, Jay decides to infusea little grit into Manny's video interview for 
	his collegeapplication. In the Tucker-Pritchett home\, Lily is over theirn
	ew houseguest and decides to take matters into her own hands.
DTSTART:20161012T210000Z
DTEND:20161012T213000Z
END:VEVENT
END:VCALENDAR
