BEGIN:VCALENDAR
VERSION:2.0
PRODID:-//InvisionCommunity Events 4.7.23//EN
METHOD:PUBLISH
CALSCALE:GREGORIAN
REFRESH-INTERVAL:PT15M
X-PUBLISHED-TTL:PT15M
X-WR-CALNAME:Pogdesign
NAME:Pogdesign
BEGIN:VTIMEZONE
TZID:Europe/London
TZURL:http://tzurl.org/zoneinfo/Europe/London
X-LIC-LOCATION:Europe/London
BEGIN:DAYLIGHT
TZOFFSETFROM:+0000
TZOFFSETTO:+0100
TZNAME:BST
DTSTART:20160327T020000Z
RRULE:FREQ=YEARLY;BYMONTH=3;BYDAY=-1SU
END:DAYLIGHT
BEGIN:STANDARD
TZOFFSETFROM:+0100
TZOFFSETTO:+0000
TZNAME:GMT
DTSTART:20161030T020000Z
RRULE:FREQ=YEARLY;BYMONTH=10;BYDAY=-1SU
END:STANDARD
END:VTIMEZONE
BEGIN:VEVENT
SUMMARY:Arrow 5x3 - A Matter of Trust
DTSTAMP:20161006T062601Z
SEQUENCE:0
UID:60265-3-841ebed20eb198c4569419e99b7bf40a@themidnightzone.com
ORGANIZER;CN="Midnight":midnight@themidnightzone.com
DESCRIPTION:Now that Oliver has his new team\, they are ready to hit the
	streets but Oliver doesn't feel they are ready. Headstrong WildDog defies 
	the Green Arrow's orders and sets out on his ownafter a new drug dealer\, 
	Derek Sampson\, who is terrorizingStar City. Sampson proves more powerful 
	than Wild Dog and it isup to the Green Arrow to go head to head with Samps
	on to savehis teammate.
DTSTART:20161019T200000Z
DTEND:20161019T210000Z
END:VEVENT
END:VCALENDAR
