BEGIN:VCALENDAR
VERSION:2.0
PRODID:-//InvisionCommunity Events 4.7.23//EN
METHOD:PUBLISH
CALSCALE:GREGORIAN
REFRESH-INTERVAL:PT15M
X-PUBLISHED-TTL:PT15M
X-WR-CALNAME:At My TV
NAME:At My TV
BEGIN:VTIMEZONE
TZID:Europe/London
TZURL:http://tzurl.org/zoneinfo/Europe/London
X-LIC-LOCATION:Europe/London
BEGIN:DAYLIGHT
TZOFFSETFROM:+0000
TZOFFSETTO:+0100
TZNAME:BST
DTSTART:20160327T020000Z
RRULE:FREQ=YEARLY;BYMONTH=3;BYDAY=-1SU
END:DAYLIGHT
BEGIN:STANDARD
TZOFFSETFROM:+0100
TZOFFSETTO:+0000
TZNAME:GMT
DTSTART:20161030T020000Z
RRULE:FREQ=YEARLY;BYMONTH=10;BYDAY=-1SU
END:STANDARD
END:VTIMEZONE
BEGIN:VEVENT
SUMMARY:Dirk Gently's Holistic Detective Agency 1x1 - Horizons
DTSTAMP:20161009T102602Z
SEQUENCE:0
UID:60440-2-841ebed20eb198c4569419e99b7bf40a@themidnightzone.com
ORGANIZER;CN="Midnight":midnight@themidnightzone.com
DESCRIPTION:After Todd Brotzman happens upon a murder scene\, he meetsse
	lf-proclaimed detective\, Dirk Gently\; and is drawn into acase involving 
	the death of reclusive millionaire\, PatrickSpring\, and the kidnapping of
	 his daughter Lydia. As multiplecharacters and storylines seem primed to c
	onverge\, tanglingendlessly in towards the center\, it's clear to Todd tha
	t hislife will never be the same.
DTSTART:20161023T010000Z
DTEND:20161023T020000Z
END:VEVENT
END:VCALENDAR
