BEGIN:VCALENDAR
VERSION:2.0
PRODID:-//InvisionCommunity Events 4.7.23//EN
METHOD:PUBLISH
CALSCALE:GREGORIAN
REFRESH-INTERVAL:PT15M
X-PUBLISHED-TTL:PT15M
X-WR-CALNAME:Pogdesign
NAME:Pogdesign
BEGIN:VTIMEZONE
TZID:Europe/London
TZURL:http://tzurl.org/zoneinfo/Europe/London
X-LIC-LOCATION:Europe/London
BEGIN:DAYLIGHT
TZOFFSETFROM:+0000
TZOFFSETTO:+0100
TZNAME:BST
DTSTART:20160327T020000Z
RRULE:FREQ=YEARLY;BYMONTH=3;BYDAY=-1SU
END:DAYLIGHT
BEGIN:STANDARD
TZOFFSETFROM:+0100
TZOFFSETTO:+0000
TZNAME:GMT
DTSTART:20161030T020000Z
RRULE:FREQ=YEARLY;BYMONTH=10;BYDAY=-1SU
END:STANDARD
END:VTIMEZONE
BEGIN:VEVENT
SUMMARY:The Exorcist 1x6 - Chapter Six: Star of the Morning
DTSTAMP:20161015T062601Z
SEQUENCE:0
UID:60797-3-841ebed20eb198c4569419e99b7bf40a@themidnightzone.com
ORGANIZER;CN="Midnight":midnight@themidnightzone.com
DESCRIPTION:The Rance family is engulfed in a firestorm of publicity aft
	erthe media learns about the possession of Casey Rance. AsCasey's story co
	ntinues to make national headlines\, FatherTomas finds himself unexpectedl
	y thrust into the publicspotlight. Meanwhile\, Father Bennett attends a pa
	pal planninggala at Maria Walters' mansion\, where members of high society
	gather to discuss the presence of angels in everyday life\, andMarcus' sea
	rch for answers leads him into the terrifyingunderbelly of the city.
DTSTART:20161104T210000Z
DTEND:20161104T220000Z
END:VEVENT
END:VCALENDAR
