BEGIN:VCALENDAR
VERSION:2.0
PRODID:-//InvisionCommunity Events 4.7.23//EN
METHOD:PUBLISH
CALSCALE:GREGORIAN
REFRESH-INTERVAL:PT15M
X-PUBLISHED-TTL:PT15M
X-WR-CALNAME:Pogdesign
NAME:Pogdesign
BEGIN:VTIMEZONE
TZID:Europe/London
TZURL:http://tzurl.org/zoneinfo/Europe/London
X-LIC-LOCATION:Europe/London
BEGIN:DAYLIGHT
TZOFFSETFROM:+0000
TZOFFSETTO:+0100
TZNAME:BST
DTSTART:20160327T020000Z
RRULE:FREQ=YEARLY;BYMONTH=3;BYDAY=-1SU
END:DAYLIGHT
BEGIN:STANDARD
TZOFFSETFROM:+0100
TZOFFSETTO:+0000
TZNAME:GMT
DTSTART:20161030T020000Z
RRULE:FREQ=YEARLY;BYMONTH=10;BYDAY=-1SU
END:STANDARD
END:VTIMEZONE
BEGIN:VEVENT
SUMMARY:Berlin Station 1x3 - Riverrun Dry
DTSTAMP:20161017T062601Z
SEQUENCE:0
UID:60894-3-841ebed20eb198c4569419e99b7bf40a@themidnightzone.com
ORGANIZER;CN="Midnight":midnight@themidnightzone.com
DESCRIPTION:Frost and Robert worry that their incriminating secrets will
	 beunearthed when Langley investigators sweep Berlin Station toferret out 
	fodder for future Shaw leaks. Meanwhile\, Daniel'sShaw hunt becomes compro
	mised when Hector bugs his phone\, andthe station's surveillance of Aleksa
	ndre Iosava turns up badbehavior by one of Valerie's agents.
DTSTART:20161030T210000Z
DTEND:20161030T220000Z
END:VEVENT
END:VCALENDAR
