BEGIN:VCALENDAR
VERSION:2.0
PRODID:-//InvisionCommunity Events 4.7.23//EN
METHOD:PUBLISH
CALSCALE:GREGORIAN
REFRESH-INTERVAL:PT15M
X-PUBLISHED-TTL:PT15M
X-WR-CALNAME:Pogdesign
NAME:Pogdesign
BEGIN:VTIMEZONE
TZID:Europe/London
TZURL:http://tzurl.org/zoneinfo/Europe/London
X-LIC-LOCATION:Europe/London
BEGIN:DAYLIGHT
TZOFFSETFROM:+0000
TZOFFSETTO:+0100
TZNAME:BST
DTSTART:20160327T020000Z
RRULE:FREQ=YEARLY;BYMONTH=3;BYDAY=-1SU
END:DAYLIGHT
BEGIN:STANDARD
TZOFFSETFROM:+0100
TZOFFSETTO:+0000
TZNAME:GMT
DTSTART:20161030T020000Z
RRULE:FREQ=YEARLY;BYMONTH=10;BYDAY=-1SU
END:STANDARD
END:VTIMEZONE
BEGIN:VEVENT
SUMMARY:The Vampire Diaries 8x3 - You Decided That I Was Worth Savin
	g
DTSTAMP:20161022T062601Z
SEQUENCE:0
UID:61217-3-841ebed20eb198c4569419e99b7bf40a@themidnightzone.com
ORGANIZER;CN="Midnight":midnight@themidnightzone.com
DESCRIPTION:As Enzo continues to fight the control over him\, Bonnie fin
	dsherself at the center of a deadly game and forced to make aheart wrenchi
	ng decision involving two of the most importantpeople in her life. At the 
	Armory\, Alaric researches amysterious artifact that he hopes will help in
	 their fight toget Damon and Enzo back. Finally\, Damon's downward spirall
	eads him to Tyler Lockwood who attempts to talk some senseinto him before 
	it's too late.
DTSTART:20161104T200000Z
DTEND:20161104T210000Z
END:VEVENT
END:VCALENDAR
