BEGIN:VCALENDAR
VERSION:2.0
PRODID:-//InvisionCommunity Events 4.7.23//EN
METHOD:PUBLISH
CALSCALE:GREGORIAN
REFRESH-INTERVAL:PT15M
X-PUBLISHED-TTL:PT15M
X-WR-CALNAME:Pogdesign
NAME:Pogdesign
BEGIN:VTIMEZONE
TZID:Europe/London
TZURL:http://tzurl.org/zoneinfo/Europe/London
X-LIC-LOCATION:Europe/London
BEGIN:DAYLIGHT
TZOFFSETFROM:+0000
TZOFFSETTO:+0100
TZNAME:BST
DTSTART:20160327T020000Z
RRULE:FREQ=YEARLY;BYMONTH=3;BYDAY=-1SU
END:DAYLIGHT
BEGIN:STANDARD
TZOFFSETFROM:+0100
TZOFFSETTO:+0000
TZNAME:GMT
DTSTART:20161030T020000Z
RRULE:FREQ=YEARLY;BYMONTH=10;BYDAY=-1SU
END:STANDARD
END:VTIMEZONE
BEGIN:VEVENT
SUMMARY:Shoot the Messenger 1x5 - Strange Bedfellows
DTSTAMP:20161101T101300Z
SEQUENCE:0
UID:61851-3-841ebed20eb198c4569419e99b7bf40a@themidnightzone.com
ORGANIZER;CN="Midnight":midnight@themidnightzone.com
DESCRIPTION:Daisy and Lutz's paths converge while investigating a newsus
	pect in the murder of Khaalid\, and Judge Reeves resignsfrom the Commissio
	n. They work together in order to track downthe suspect\, and Daisy decide
	s to &quot\;get honest&quot\;with Lutz about the substance abuse in her pa
	st. Simon makesthe connection between Lawson's big development project\, t
	hesuper jail\, and Attorney General Sam Charles.
DTSTART:20161114T210000Z
DTEND:20161114T220000Z
END:VEVENT
END:VCALENDAR
