BEGIN:VCALENDAR
VERSION:2.0
PRODID:-//InvisionCommunity Events 4.7.23//EN
METHOD:PUBLISH
CALSCALE:GREGORIAN
REFRESH-INTERVAL:PT15M
X-PUBLISHED-TTL:PT15M
X-WR-CALNAME:Pogdesign
NAME:Pogdesign
BEGIN:VTIMEZONE
TZID:Europe/London
TZURL:http://tzurl.org/zoneinfo/Europe/London
X-LIC-LOCATION:Europe/London
BEGIN:DAYLIGHT
TZOFFSETFROM:+0000
TZOFFSETTO:+0100
TZNAME:BST
DTSTART:20160327T020000Z
RRULE:FREQ=YEARLY;BYMONTH=3;BYDAY=-1SU
END:DAYLIGHT
BEGIN:STANDARD
TZOFFSETFROM:+0100
TZOFFSETTO:+0000
TZNAME:GMT
DTSTART:20161030T020000Z
RRULE:FREQ=YEARLY;BYMONTH=10;BYDAY=-1SU
END:STANDARD
END:VTIMEZONE
BEGIN:VEVENT
SUMMARY:Bob's Burgers 7x6 - The Quirkducers
DTSTAMP:20161107T101300Z
SEQUENCE:0
UID:62213-3-841ebed20eb198c4569419e99b7bf40a@themidnightzone.com
ORGANIZER;CN="Midnight":midnight@themidnightzone.com
DESCRIPTION:When Mr. Frond's annual play threatens to ruin the half dayb
	efore Thanksgiving\, Gene and Louise decide they need tosabotage it in ord
	er to save their long weekend. Unknowingly\,Tina provides her holiday fan 
	fiction as the subject matter andthe kids get to work on their own version
	 of the play.Meanwhile\, Linda finds a potato with a striking resemblance 
	toher late grandfather.
DTSTART:20161120T193000Z
DTEND:20161120T200000Z
END:VEVENT
END:VCALENDAR
