BEGIN:VCALENDAR
VERSION:2.0
PRODID:-//InvisionCommunity Events 4.7.23//EN
METHOD:PUBLISH
CALSCALE:GREGORIAN
REFRESH-INTERVAL:PT15M
X-PUBLISHED-TTL:PT15M
X-WR-CALNAME:Pogdesign
NAME:Pogdesign
BEGIN:VTIMEZONE
TZID:Europe/London
TZURL:http://tzurl.org/zoneinfo/Europe/London
X-LIC-LOCATION:Europe/London
BEGIN:DAYLIGHT
TZOFFSETFROM:+0000
TZOFFSETTO:+0100
TZNAME:BST
DTSTART:20160327T020000Z
RRULE:FREQ=YEARLY;BYMONTH=3;BYDAY=-1SU
END:DAYLIGHT
BEGIN:STANDARD
TZOFFSETFROM:+0100
TZOFFSETTO:+0000
TZNAME:GMT
DTSTART:20161030T020000Z
RRULE:FREQ=YEARLY;BYMONTH=10;BYDAY=-1SU
END:STANDARD
END:VTIMEZONE
BEGIN:VEVENT
SUMMARY:Timeless 1x7 - Stranded
DTSTAMP:20161108T101300Z
SEQUENCE:0
UID:62297-3-841ebed20eb198c4569419e99b7bf40a@themidnightzone.com
ORGANIZER;CN="Midnight":midnight@themidnightzone.com
DESCRIPTION:The team chases Garcia Flynn to 1754\, but after he reveals 
	histrue intentions\, they're forced to scramble through hostileterritory. 
	Now\, if they want to survive\, they'll need tolearn to trust each other. 
	Meanwhile\, Agent Christopherquietly investigates Connor Mason\, and Jiya 
	has a hunch thatRufus might be resourceful enough to open a line ofcommuni
	cation with the present.
DTSTART:20161121T220000Z
DTEND:20161121T230000Z
END:VEVENT
END:VCALENDAR
